BEGIN:VCALENDAR
VERSION:2.0
PRODID:-//PWG Aréna - ECPv6.15.20//NONSGML v1.0//EN
CALSCALE:GREGORIAN
METHOD:PUBLISH
X-WR-CALNAME:PWG Aréna
X-ORIGINAL-URL:https://pwgarena.sk
X-WR-CALDESC:Udalosti pre PWG Aréna
REFRESH-INTERVAL;VALUE=DURATION:PT1H
X-Robots-Tag:noindex
X-PUBLISHED-TTL:PT1H
BEGIN:VTIMEZONE
TZID:Europe/Bratislava
BEGIN:DAYLIGHT
TZOFFSETFROM:+0100
TZOFFSETTO:+0200
TZNAME:CEST
DTSTART:20250330T010000
END:DAYLIGHT
BEGIN:STANDARD
TZOFFSETFROM:+0200
TZOFFSETTO:+0100
TZNAME:CET
DTSTART:20251026T010000
END:STANDARD
BEGIN:DAYLIGHT
TZOFFSETFROM:+0100
TZOFFSETTO:+0200
TZNAME:CEST
DTSTART:20260329T010000
END:DAYLIGHT
BEGIN:STANDARD
TZOFFSETFROM:+0200
TZOFFSETTO:+0100
TZNAME:CET
DTSTART:20261025T010000
END:STANDARD
BEGIN:DAYLIGHT
TZOFFSETFROM:+0100
TZOFFSETTO:+0200
TZNAME:CEST
DTSTART:20270328T010000
END:DAYLIGHT
BEGIN:STANDARD
TZOFFSETFROM:+0200
TZOFFSETTO:+0100
TZNAME:CET
DTSTART:20271031T010000
END:STANDARD
END:VTIMEZONE
BEGIN:VEVENT
DTSTART;TZID=Europe/Bratislava:20260430T210500
DTEND;TZID=Europe/Bratislava:20260430T220500
DTSTAMP:20260426T010731
CREATED:20260415T173954Z
LAST-MODIFIED:20260416T162739Z
UID:81963-1777583100-1777586700@pwgarena.sk
SUMMARY:ŠPIRKA
DESCRIPTION:
URL:https://pwgarena.sk/rozpis/spirka-3/
CATEGORIES:KOMERCIA
END:VEVENT
BEGIN:VEVENT
DTSTART;TZID=Europe/Bratislava:20260430T195000
DTEND;TZID=Europe/Bratislava:20260430T205000
DTSTAMP:20260426T010731
CREATED:20260415T171849Z
LAST-MODIFIED:20260416T162733Z
UID:81922-1777578600-1777582200@pwgarena.sk
SUMMARY:BIBUS
DESCRIPTION:
URL:https://pwgarena.sk/rozpis/bibus-3/
CATEGORIES:KOMERCIA
END:VEVENT
BEGIN:VEVENT
DTSTART;TZID=Europe/Bratislava:20260430T183500
DTEND;TZID=Europe/Bratislava:20260430T193500
DTSTAMP:20260426T010731
CREATED:20260415T171814Z
LAST-MODIFIED:20260416T162754Z
UID:81920-1777574100-1777577700@pwgarena.sk
SUMMARY:DD 21 / MACKO
DESCRIPTION:
URL:https://pwgarena.sk/rozpis/dd-21-macko/
CATEGORIES:KOMERCIA
END:VEVENT
BEGIN:VEVENT
DTSTART;TZID=Europe/Bratislava:20260430T172000
DTEND;TZID=Europe/Bratislava:20260430T182000
DTSTAMP:20260426T010731
CREATED:20260415T170404Z
LAST-MODIFIED:20260416T162759Z
UID:81881-1777569600-1777573200@pwgarena.sk
SUMMARY:DORAST
DESCRIPTION:
URL:https://pwgarena.sk/rozpis/dorast-7/
CATEGORIES:SLÁVIA
END:VEVENT
BEGIN:VEVENT
DTSTART;TZID=Europe/Bratislava:20260430T160000
DTEND;TZID=Europe/Bratislava:20260430T170000
DTSTAMP:20260426T010731
CREATED:20260415T165834Z
LAST-MODIFIED:20260423T163241Z
UID:81864-1777564800-1777568400@pwgarena.sk
SUMMARY:VOĽNÝ ĽAD
DESCRIPTION:
URL:https://pwgarena.sk/rozpis/8-9-12/
CATEGORIES:Voľná hodina
END:VEVENT
BEGIN:VEVENT
DTSTART;TZID=Europe/Bratislava:20260430T144500
DTEND;TZID=Europe/Bratislava:20260430T154500
DTSTAMP:20260426T010731
CREATED:20260421T102855Z
LAST-MODIFIED:20260421T104117Z
UID:82103-1777560300-1777563900@pwgarena.sk
SUMMARY:SKS
DESCRIPTION:
URL:https://pwgarena.sk/rozpis/sks-10/
CATEGORIES:SKS
END:VEVENT
BEGIN:VEVENT
DTSTART;TZID=Europe/Bratislava:20260430T134500
DTEND;TZID=Europe/Bratislava:20260430T144500
DTSTAMP:20260426T010731
CREATED:20260421T102824Z
LAST-MODIFIED:20260421T104110Z
UID:82101-1777556700-1777560300@pwgarena.sk
SUMMARY:SKS
DESCRIPTION:
URL:https://pwgarena.sk/rozpis/sks-9/
CATEGORIES:SKS
END:VEVENT
BEGIN:VEVENT
DTSTART;TZID=Europe/Bratislava:20260430T123500
DTEND;TZID=Europe/Bratislava:20260430T133500
DTSTAMP:20260426T010731
CREATED:20260415T170834Z
LAST-MODIFIED:20260416T162842Z
UID:81899-1777552500-1777556100@pwgarena.sk
SUMMARY:2/3
DESCRIPTION:
URL:https://pwgarena.sk/rozpis/2-3-7/
CATEGORIES:VUC
END:VEVENT
BEGIN:VEVENT
DTSTART;TZID=Europe/Bratislava:20260430T112500
DTEND;TZID=Europe/Bratislava:20260430T122500
DTSTAMP:20260426T010731
CREATED:20260415T170734Z
LAST-MODIFIED:20260416T162837Z
UID:81895-1777548300-1777551900@pwgarena.sk
SUMMARY:1
DESCRIPTION:
URL:https://pwgarena.sk/rozpis/1-8/
CATEGORIES:VUC
END:VEVENT
BEGIN:VEVENT
DTSTART;TZID=Europe/Bratislava:20260430T101500
DTEND;TZID=Europe/Bratislava:20260430T111500
DTSTAMP:20260426T010731
CREATED:20260415T173147Z
LAST-MODIFIED:20260416T162822Z
UID:81961-1777544100-1777547700@pwgarena.sk
SUMMARY:ZŠ MÁJOVÉ NÁM.
DESCRIPTION:
URL:https://pwgarena.sk/rozpis/zs-majove-nam-2/
CATEGORIES:VUC
END:VEVENT
BEGIN:VEVENT
DTSTART;TZID=Europe/Bratislava:20260430T092000
DTEND;TZID=Europe/Bratislava:20260430T100500
DTSTAMP:20260426T010731
CREATED:20260415T172903Z
LAST-MODIFIED:20260416T162817Z
UID:81953-1777540800-1777543500@pwgarena.sk
SUMMARY:MŠ VOLGOGRADSKÁ
DESCRIPTION:
URL:https://pwgarena.sk/rozpis/ms-volgogradska-4/
CATEGORIES:KOMERCIA
END:VEVENT
BEGIN:VEVENT
DTSTART;TZID=Europe/Bratislava:20260430T082000
DTEND;TZID=Europe/Bratislava:20260430T092000
DTSTAMP:20260426T010731
CREATED:20260414T080852Z
LAST-MODIFIED:20260414T153857Z
UID:81685-1777537200-1777540800@pwgarena.sk
SUMMARY:ELBA
DESCRIPTION:
URL:https://pwgarena.sk/rozpis/elba-20/
CATEGORIES:VUC
END:VEVENT
BEGIN:VEVENT
DTSTART;TZID=Europe/Bratislava:20260430T071000
DTEND;TZID=Europe/Bratislava:20260430T081000
DTSTAMP:20260426T010731
CREATED:20260415T170610Z
LAST-MODIFIED:20260424T072258Z
UID:81889-1777533000-1777536600@pwgarena.sk
SUMMARY:ELBA
DESCRIPTION:
URL:https://pwgarena.sk/rozpis/4-5-10/
CATEGORIES:VUC
END:VEVENT
BEGIN:VEVENT
DTSTART;TZID=Europe/Bratislava:20260429T220000
DTEND;TZID=Europe/Bratislava:20260429T230000
DTSTAMP:20260426T010731
CREATED:20260415T171629Z
LAST-MODIFIED:20260416T162903Z
UID:81918-1777500000-1777503600@pwgarena.sk
SUMMARY:AMATÉRI
DESCRIPTION:
URL:https://pwgarena.sk/rozpis/amateri-3/
CATEGORIES:KOMERCIA
END:VEVENT
BEGIN:VEVENT
DTSTART;TZID=Europe/Bratislava:20260429T204500
DTEND;TZID=Europe/Bratislava:20260429T214500
DTSTAMP:20260426T010731
CREATED:20260415T171559Z
LAST-MODIFIED:20260423T081600Z
UID:81916-1777495500-1777499100@pwgarena.sk
SUMMARY:ČECH
DESCRIPTION:
URL:https://pwgarena.sk/rozpis/grega-5/
CATEGORIES:KOMERCIA
END:VEVENT
BEGIN:VEVENT
DTSTART;TZID=Europe/Bratislava:20260429T193000
DTEND;TZID=Europe/Bratislava:20260429T203000
DTSTAMP:20260426T010731
CREATED:20260415T171527Z
LAST-MODIFIED:20260416T162918Z
UID:81914-1777491000-1777494600@pwgarena.sk
SUMMARY:OLEJÁR
DESCRIPTION:
URL:https://pwgarena.sk/rozpis/olejar-3/
CATEGORIES:KOMERCIA
END:VEVENT
BEGIN:VEVENT
DTSTART;TZID=Europe/Bratislava:20260429T181500
DTEND;TZID=Europe/Bratislava:20260429T191500
DTSTAMP:20260426T010731
CREATED:20260415T165759Z
LAST-MODIFIED:20260423T081545Z
UID:81862-1777486500-1777490100@pwgarena.sk
SUMMARY:GREGA
DESCRIPTION:
URL:https://pwgarena.sk/rozpis/8-9-11/
CATEGORIES:KOMERCIA
END:VEVENT
BEGIN:VEVENT
DTSTART;TZID=Europe/Bratislava:20260429T170000
DTEND;TZID=Europe/Bratislava:20260429T180000
DTSTAMP:20260426T010731
CREATED:20260415T170246Z
LAST-MODIFIED:20260416T162939Z
UID:81875-1777482000-1777485600@pwgarena.sk
SUMMARY:3/4 / BRANKÁRI 6-dorast
DESCRIPTION:
URL:https://pwgarena.sk/rozpis/3-4-brankari-6-dorast-3/
CATEGORIES:SLÁVIA
END:VEVENT
BEGIN:VEVENT
DTSTART;TZID=Europe/Bratislava:20260429T160000
DTEND;TZID=Europe/Bratislava:20260429T170000
DTSTAMP:20260426T010731
CREATED:20260421T102758Z
LAST-MODIFIED:20260421T103815Z
UID:82099-1777478400-1777482000@pwgarena.sk
SUMMARY:SKS
DESCRIPTION:
URL:https://pwgarena.sk/rozpis/sks-8/
CATEGORIES:SKS
END:VEVENT
BEGIN:VEVENT
DTSTART;TZID=Europe/Bratislava:20260429T144500
DTEND;TZID=Europe/Bratislava:20260429T154500
DTSTAMP:20260426T010731
CREATED:20260415T170044Z
LAST-MODIFIED:20260423T162019Z
UID:81870-1777473900-1777477500@pwgarena.sk
SUMMARY:PARTIČKA (50min)
DESCRIPTION:
URL:https://pwgarena.sk/rozpis/6-7-9/
CATEGORIES:KOMERCIA
END:VEVENT
BEGIN:VEVENT
DTSTART;TZID=Europe/Bratislava:20260429T134500
DTEND;TZID=Europe/Bratislava:20260429T144500
DTSTAMP:20260426T010731
CREATED:20260421T102737Z
LAST-MODIFIED:20260421T103822Z
UID:82097-1777470300-1777473900@pwgarena.sk
SUMMARY:SKS
DESCRIPTION:
URL:https://pwgarena.sk/rozpis/sks-7/
CATEGORIES:SKS
END:VEVENT
BEGIN:VEVENT
DTSTART;TZID=Europe/Bratislava:20260429T123500
DTEND;TZID=Europe/Bratislava:20260429T133500
DTSTAMP:20260426T010731
CREATED:20260415T170706Z
LAST-MODIFIED:20260425T095812Z
UID:81893-1777466100-1777469700@pwgarena.sk
SUMMARY:VUC
DESCRIPTION:
URL:https://pwgarena.sk/rozpis/1-7/
END:VEVENT
BEGIN:VEVENT
DTSTART;TZID=Europe/Bratislava:20260429T112500
DTEND;TZID=Europe/Bratislava:20260429T122500
DTSTAMP:20260426T010731
CREATED:20260414T080627Z
LAST-MODIFIED:20260414T153903Z
UID:81683-1777461900-1777465500@pwgarena.sk
SUMMARY:ELBA
DESCRIPTION:
URL:https://pwgarena.sk/rozpis/elba-19/
CATEGORIES:VUC
END:VEVENT
BEGIN:VEVENT
DTSTART;TZID=Europe/Bratislava:20260429T101500
DTEND;TZID=Europe/Bratislava:20260429T111500
DTSTAMP:20260426T010731
CREATED:20260415T173117Z
LAST-MODIFIED:20260416T163227Z
UID:81959-1777457700-1777461300@pwgarena.sk
SUMMARY:ZŠ MÁJOVÉ NÁM.
DESCRIPTION:
URL:https://pwgarena.sk/rozpis/zs-majove-nam/
CATEGORIES:VUC
END:VEVENT
BEGIN:VEVENT
DTSTART;TZID=Europe/Bratislava:20260429T092000
DTEND;TZID=Europe/Bratislava:20260429T100500
DTSTAMP:20260426T010731
CREATED:20260415T172837Z
LAST-MODIFIED:20260416T163019Z
UID:81951-1777454400-1777457100@pwgarena.sk
SUMMARY:MŠ VOLGOGRADSKÁ
DESCRIPTION:
URL:https://pwgarena.sk/rozpis/ms-volgogradska-3/
CATEGORIES:KOMERCIA
END:VEVENT
BEGIN:VEVENT
DTSTART;TZID=Europe/Bratislava:20260429T082000
DTEND;TZID=Europe/Bratislava:20260429T092000
DTSTAMP:20260426T010731
CREATED:20260414T080544Z
LAST-MODIFIED:20260414T153911Z
UID:81681-1777450800-1777454400@pwgarena.sk
SUMMARY:ELBA
DESCRIPTION:
URL:https://pwgarena.sk/rozpis/elba-18/
CATEGORIES:VUC
END:VEVENT
BEGIN:VEVENT
DTSTART;TZID=Europe/Bratislava:20260429T071000
DTEND;TZID=Europe/Bratislava:20260429T081000
DTSTAMP:20260426T010731
CREATED:20260415T170547Z
LAST-MODIFIED:20260423T091750Z
UID:81887-1777446600-1777450200@pwgarena.sk
SUMMARY:VOĽNÝ ĽAD
DESCRIPTION:
URL:https://pwgarena.sk/rozpis/4-5-9/
CATEGORIES:Voľná hodina
END:VEVENT
BEGIN:VEVENT
DTSTART;TZID=Europe/Bratislava:20260429T054500
DTEND;TZID=Europe/Bratislava:20260429T070000
DTSTAMP:20260426T010731
CREATED:20260415T170433Z
LAST-MODIFIED:20260416T163213Z
UID:81883-1777441500-1777446000@pwgarena.sk
SUMMARY:DORAST
DESCRIPTION:
URL:https://pwgarena.sk/rozpis/dorast-8/
CATEGORIES:VUC
END:VEVENT
BEGIN:VEVENT
DTSTART;TZID=Europe/Bratislava:20260428T205000
DTEND;TZID=Europe/Bratislava:20260428T215000
DTSTAMP:20260426T010731
CREATED:20260415T171141Z
LAST-MODIFIED:20260416T163207Z
UID:81912-1777409400-1777413000@pwgarena.sk
SUMMARY:HC NIŽNÁ
DESCRIPTION:
URL:https://pwgarena.sk/rozpis/hc-nizna-2/
CATEGORIES:KOMERCIA
END:VEVENT
BEGIN:VEVENT
DTSTART;TZID=Europe/Bratislava:20260428T193500
DTEND;TZID=Europe/Bratislava:20260428T203500
DTSTAMP:20260426T010731
CREATED:20260415T171108Z
LAST-MODIFIED:20260416T163202Z
UID:81910-1777404900-1777408500@pwgarena.sk
SUMMARY:FRIMMER
DESCRIPTION:
URL:https://pwgarena.sk/rozpis/frimmer-2/
CATEGORIES:KOMERCIA
END:VEVENT
END:VCALENDAR