BEGIN:VCALENDAR
VERSION:2.0
PRODID:-//PWG Aréna - ECPv6.15.20//NONSGML v1.0//EN
CALSCALE:GREGORIAN
METHOD:PUBLISH
X-ORIGINAL-URL:https://pwgarena.sk
X-WR-CALDESC:Udalosti pre PWG Aréna
REFRESH-INTERVAL;VALUE=DURATION:PT1H
X-Robots-Tag:noindex
X-PUBLISHED-TTL:PT1H
BEGIN:VTIMEZONE
TZID:Europe/Bratislava
BEGIN:DAYLIGHT
TZOFFSETFROM:+0100
TZOFFSETTO:+0200
TZNAME:CEST
DTSTART:20250330T010000
END:DAYLIGHT
BEGIN:STANDARD
TZOFFSETFROM:+0200
TZOFFSETTO:+0100
TZNAME:CET
DTSTART:20251026T010000
END:STANDARD
BEGIN:DAYLIGHT
TZOFFSETFROM:+0100
TZOFFSETTO:+0200
TZNAME:CEST
DTSTART:20260329T010000
END:DAYLIGHT
BEGIN:STANDARD
TZOFFSETFROM:+0200
TZOFFSETTO:+0100
TZNAME:CET
DTSTART:20261025T010000
END:STANDARD
BEGIN:DAYLIGHT
TZOFFSETFROM:+0100
TZOFFSETTO:+0200
TZNAME:CEST
DTSTART:20270328T010000
END:DAYLIGHT
BEGIN:STANDARD
TZOFFSETFROM:+0200
TZOFFSETTO:+0100
TZNAME:CET
DTSTART:20271031T010000
END:STANDARD
END:VTIMEZONE
BEGIN:VEVENT
DTSTART;TZID=Europe/Bratislava:20260425T055000
DTEND;TZID=Europe/Bratislava:20260425T065000
DTSTAMP:20260426T010337
CREATED:20260420T151235Z
LAST-MODIFIED:20260421T103949Z
UID:82078-1777096200-1777099800@pwgarena.sk
SUMMARY:BLACKY
DESCRIPTION:
URL:https://pwgarena.sk/rozpis/blacky/
CATEGORIES:KOMERCIA
END:VEVENT
BEGIN:VEVENT
DTSTART;TZID=Europe/Bratislava:20260425T070500
DTEND;TZID=Europe/Bratislava:20260425T080500
DTSTAMP:20260426T010337
CREATED:20260414T092412Z
LAST-MODIFIED:20260420T151755Z
UID:81775-1777100700-1777104300@pwgarena.sk
SUMMARY:BLIHÁR
DESCRIPTION:
URL:https://pwgarena.sk/rozpis/blihar-2/
CATEGORIES:KOMERCIA
END:VEVENT
BEGIN:VEVENT
DTSTART;TZID=Europe/Bratislava:20260425T082000
DTEND;TZID=Europe/Bratislava:20260425T092000
DTSTAMP:20260426T010337
CREATED:20260414T092438Z
LAST-MODIFIED:20260420T152005Z
UID:81777-1777105200-1777108800@pwgarena.sk
SUMMARY:LIPANY
DESCRIPTION:
URL:https://pwgarena.sk/rozpis/lipany-2/
CATEGORIES:KOMERCIA
END:VEVENT
BEGIN:VEVENT
DTSTART;TZID=Europe/Bratislava:20260425T093000
DTEND;TZID=Europe/Bratislava:20260425T103000
DTSTAMP:20260426T010337
CREATED:20260414T092509Z
LAST-MODIFIED:20260414T154211Z
UID:81779-1777109400-1777113000@pwgarena.sk
SUMMARY:NÁBOR / 0
DESCRIPTION:
URL:https://pwgarena.sk/rozpis/nabor-0-3/
CATEGORIES:SLÁVIA
END:VEVENT
BEGIN:VEVENT
DTSTART;TZID=Europe/Bratislava:20260425T103000
DTEND;TZID=Europe/Bratislava:20260425T113000
DTSTAMP:20260426T010337
CREATED:20260414T092533Z
LAST-MODIFIED:20260414T154202Z
UID:81781-1777113000-1777116600@pwgarena.sk
SUMMARY:1/2
DESCRIPTION:
URL:https://pwgarena.sk/rozpis/1-2-4/
CATEGORIES:SLÁVIA
END:VEVENT
BEGIN:VEVENT
DTSTART;TZID=Europe/Bratislava:20260425T123000
DTEND;TZID=Europe/Bratislava:20260425T140000
DTSTAMP:20260426T010337
CREATED:20260416T144742Z
LAST-MODIFIED:20260419T150202Z
UID:82011-1777120200-1777125600@pwgarena.sk
SUMMARY:Zápas HP4 SLAVIA-SABINOV
DESCRIPTION:
URL:https://pwgarena.sk/rozpis/spirka-1-2-volna-hodina/
CATEGORIES:Zápas
END:VEVENT
BEGIN:VEVENT
DTSTART;TZID=Europe/Bratislava:20260425T141500
DTEND;TZID=Europe/Bratislava:20260425T151500
DTSTAMP:20260426T010337
CREATED:20260416T144906Z
LAST-MODIFIED:20260419T150132Z
UID:82015-1777126500-1777130100@pwgarena.sk
SUMMARY:DETSKÉ VEKO
DESCRIPTION:
URL:https://pwgarena.sk/rozpis/detske-veko-3/
CATEGORIES:VEREJNÉ KORČUĽOVANIE
END:VEVENT
BEGIN:VEVENT
DTSTART;TZID=Europe/Bratislava:20260425T153000
DTEND;TZID=Europe/Bratislava:20260425T163000
DTSTAMP:20260426T010337
CREATED:20260416T144943Z
LAST-MODIFIED:20260419T174231Z
UID:82017-1777131000-1777134600@pwgarena.sk
SUMMARY:HOKEJKA & PUK
DESCRIPTION:
URL:https://pwgarena.sk/rozpis/hokejka-puk-dospeli-2/
CATEGORIES:VEREJNÉ KORČUĽOVANIE
END:VEVENT
BEGIN:VEVENT
DTSTART;TZID=Europe/Bratislava:20260425T164500
DTEND;TZID=Europe/Bratislava:20260425T174500
DTSTAMP:20260426T010337
CREATED:20260414T095528Z
LAST-MODIFIED:20260414T154154Z
UID:81788-1777135500-1777139100@pwgarena.sk
SUMMARY:KORČULIARIK
DESCRIPTION:
URL:https://pwgarena.sk/rozpis/korculiarik-2/
CATEGORIES:KOMERCIA
END:VEVENT
BEGIN:VEVENT
DTSTART;TZID=Europe/Bratislava:20260425T180000
DTEND;TZID=Europe/Bratislava:20260425T190000
DTSTAMP:20260426T010337
CREATED:20260414T153611Z
LAST-MODIFIED:20260425T095631Z
UID:81837-1777140000-1777143600@pwgarena.sk
SUMMARY:VOĽNÝ ĽAD
DESCRIPTION:
URL:https://pwgarena.sk/rozpis/cech/
CATEGORIES:Voľná hodina
END:VEVENT
BEGIN:VEVENT
DTSTART;TZID=Europe/Bratislava:20260425T191500
DTEND;TZID=Europe/Bratislava:20260425T201500
DTSTAMP:20260426T010337
CREATED:20260414T095558Z
LAST-MODIFIED:20260414T154134Z
UID:81790-1777144500-1777148100@pwgarena.sk
SUMMARY:SERGIO
DESCRIPTION:
URL:https://pwgarena.sk/rozpis/sergio-2/
CATEGORIES:KOMERCIA
END:VEVENT
BEGIN:VEVENT
DTSTART;TZID=Europe/Bratislava:20260425T203000
DTEND;TZID=Europe/Bratislava:20260425T213000
DTSTAMP:20260426T010337
CREATED:20260414T095629Z
LAST-MODIFIED:20260414T154125Z
UID:81792-1777149000-1777152600@pwgarena.sk
SUMMARY:GABI HOKEJ
DESCRIPTION:
URL:https://pwgarena.sk/rozpis/gabi-hokej-2/
CATEGORIES:KOMERCIA
END:VEVENT
BEGIN:VEVENT
DTSTART;TZID=Europe/Bratislava:20260426T060000
DTEND;TZID=Europe/Bratislava:20260426T070000
DTSTAMP:20260426T010337
CREATED:20260414T095657Z
LAST-MODIFIED:20260414T154100Z
UID:81794-1777183200-1777186800@pwgarena.sk
SUMMARY:MAKY
DESCRIPTION:
URL:https://pwgarena.sk/rozpis/maky-2/
CATEGORIES:KOMERCIA
END:VEVENT
BEGIN:VEVENT
DTSTART;TZID=Europe/Bratislava:20260426T071500
DTEND;TZID=Europe/Bratislava:20260426T081500
DTSTAMP:20260426T010337
CREATED:20260414T095734Z
LAST-MODIFIED:20260414T154048Z
UID:81796-1777187700-1777191300@pwgarena.sk
SUMMARY:MARTIN
DESCRIPTION:
URL:https://pwgarena.sk/rozpis/martin-2/
CATEGORIES:KOMERCIA
END:VEVENT
BEGIN:VEVENT
DTSTART;TZID=Europe/Bratislava:20260426T082500
DTEND;TZID=Europe/Bratislava:20260426T092500
DTSTAMP:20260426T010337
CREATED:20260414T095801Z
LAST-MODIFIED:20260414T154042Z
UID:81798-1777191900-1777195500@pwgarena.sk
SUMMARY:1/2
DESCRIPTION:
URL:https://pwgarena.sk/rozpis/1-2-5/
CATEGORIES:SLÁVIA
END:VEVENT
BEGIN:VEVENT
DTSTART;TZID=Europe/Bratislava:20260426T093500
DTEND;TZID=Europe/Bratislava:20260426T103500
DTSTAMP:20260426T010337
CREATED:20260414T095833Z
LAST-MODIFIED:20260414T154033Z
UID:81800-1777196100-1777199700@pwgarena.sk
SUMMARY:NABOR / 0
DESCRIPTION:
URL:https://pwgarena.sk/rozpis/nabor-0-4/
CATEGORIES:SLÁVIA
END:VEVENT
BEGIN:VEVENT
DTSTART;TZID=Europe/Bratislava:20260426T104500
DTEND;TZID=Europe/Bratislava:20260426T114500
DTSTAMP:20260426T010337
CREATED:20260414T095905Z
LAST-MODIFIED:20260416T163244Z
UID:81802-1777200300-1777203900@pwgarena.sk
SUMMARY:POLICIAN / MARGARÉTKA
DESCRIPTION:
URL:https://pwgarena.sk/rozpis/polician-margaretka-2/
CATEGORIES:KOMERCIA
END:VEVENT
BEGIN:VEVENT
DTSTART;TZID=Europe/Bratislava:20260426T120000
DTEND;TZID=Europe/Bratislava:20260426T130000
DTSTAMP:20260426T010337
CREATED:20260416T145112Z
LAST-MODIFIED:20260416T145235Z
UID:82019-1777204800-1777208400@pwgarena.sk
SUMMARY:HOKEJKA & PUK
DESCRIPTION:
URL:https://pwgarena.sk/rozpis/hokejka-puk/
CATEGORIES:VEREJNÉ KORČUĽOVANIE
END:VEVENT
BEGIN:VEVENT
DTSTART;TZID=Europe/Bratislava:20260426T131500
DTEND;TZID=Europe/Bratislava:20260426T141500
DTSTAMP:20260426T010337
CREATED:20260416T145141Z
LAST-MODIFIED:20260416T145227Z
UID:82021-1777209300-1777212900@pwgarena.sk
SUMMARY:DETSKÉ VEKO
DESCRIPTION:
URL:https://pwgarena.sk/rozpis/detske-veko-4/
CATEGORIES:VEREJNÉ KORČUĽOVANIE
END:VEVENT
BEGIN:VEVENT
DTSTART;TZID=Europe/Bratislava:20260426T143000
DTEND;TZID=Europe/Bratislava:20260426T153000
DTSTAMP:20260426T010337
CREATED:20260414T095944Z
LAST-MODIFIED:20260414T154018Z
UID:81804-1777213800-1777217400@pwgarena.sk
SUMMARY:KUNEC / ŠPIRKA
DESCRIPTION:
URL:https://pwgarena.sk/rozpis/kunec-spirka-2/
CATEGORIES:KOMERCIA
END:VEVENT
BEGIN:VEVENT
DTSTART;TZID=Europe/Bratislava:20260426T154500
DTEND;TZID=Europe/Bratislava:20260426T164500
DTSTAMP:20260426T010337
CREATED:20260414T100009Z
LAST-MODIFIED:20260414T154012Z
UID:81806-1777218300-1777221900@pwgarena.sk
SUMMARY:DEMČÁK
DESCRIPTION:
URL:https://pwgarena.sk/rozpis/demcak/
CATEGORIES:KOMERCIA
END:VEVENT
BEGIN:VEVENT
DTSTART;TZID=Europe/Bratislava:20260426T170000
DTEND;TZID=Europe/Bratislava:20260426T180000
DTSTAMP:20260426T010337
CREATED:20260414T100035Z
LAST-MODIFIED:20260414T154006Z
UID:81808-1777222800-1777226400@pwgarena.sk
SUMMARY:HURKA
DESCRIPTION:
URL:https://pwgarena.sk/rozpis/hurka-2/
CATEGORIES:KOMERCIA
END:VEVENT
BEGIN:VEVENT
DTSTART;TZID=Europe/Bratislava:20260426T182000
DTEND;TZID=Europe/Bratislava:20260426T192000
DTSTAMP:20260426T010337
CREATED:20260414T100102Z
LAST-MODIFIED:20260414T153957Z
UID:81810-1777227600-1777231200@pwgarena.sk
SUMMARY:PATRIK
DESCRIPTION:
URL:https://pwgarena.sk/rozpis/patrik-2/
CATEGORIES:KOMERCIA
END:VEVENT
BEGIN:VEVENT
DTSTART;TZID=Europe/Bratislava:20260426T193500
DTEND;TZID=Europe/Bratislava:20260426T203500
DTSTAMP:20260426T010337
CREATED:20260414T100129Z
LAST-MODIFIED:20260414T153951Z
UID:81812-1777232100-1777235700@pwgarena.sk
SUMMARY:GREGA
DESCRIPTION:
URL:https://pwgarena.sk/rozpis/grega-3/
CATEGORIES:KOMERCIA
END:VEVENT
BEGIN:VEVENT
DTSTART;TZID=Europe/Bratislava:20260426T205000
DTEND;TZID=Europe/Bratislava:20260426T215000
DTSTAMP:20260426T010337
CREATED:20260414T100202Z
LAST-MODIFIED:20260416T145217Z
UID:81814-1777236600-1777240200@pwgarena.sk
SUMMARY:REVIĽÁK
DESCRIPTION:
URL:https://pwgarena.sk/rozpis/volny-lad-6/
CATEGORIES:KOMERCIA
END:VEVENT
BEGIN:VEVENT
DTSTART;TZID=Europe/Bratislava:20260427T060000
DTEND;TZID=Europe/Bratislava:20260427T070000
DTSTAMP:20260426T010337
CREATED:20260415T165644Z
LAST-MODIFIED:20260423T081141Z
UID:81858-1777269600-1777273200@pwgarena.sk
SUMMARY:VOĽNÝ ĽAD
DESCRIPTION:
URL:https://pwgarena.sk/rozpis/8-9-6/
CATEGORIES:Voľná hodina
END:VEVENT
BEGIN:VEVENT
DTSTART;TZID=Europe/Bratislava:20260427T071000
DTEND;TZID=Europe/Bratislava:20260427T081000
DTSTAMP:20260426T010337
CREATED:20260414T080333Z
LAST-MODIFIED:20260414T153938Z
UID:81673-1777273800-1777277400@pwgarena.sk
SUMMARY:ELBA
DESCRIPTION:
URL:https://pwgarena.sk/rozpis/elba-14/
CATEGORIES:VUC
END:VEVENT
BEGIN:VEVENT
DTSTART;TZID=Europe/Bratislava:20260427T082000
DTEND;TZID=Europe/Bratislava:20260427T092000
DTSTAMP:20260426T010337
CREATED:20260414T080354Z
LAST-MODIFIED:20260414T153933Z
UID:81675-1777278000-1777281600@pwgarena.sk
SUMMARY:ELBA
DESCRIPTION:
URL:https://pwgarena.sk/rozpis/elba-15/
CATEGORIES:VUC
END:VEVENT
BEGIN:VEVENT
DTSTART;TZID=Europe/Bratislava:20260427T092000
DTEND;TZID=Europe/Bratislava:20260427T100500
DTSTAMP:20260426T010337
CREATED:20260415T172743Z
LAST-MODIFIED:20260416T163408Z
UID:81947-1777281600-1777284300@pwgarena.sk
SUMMARY:MŠ VOLGOGRADSKÁ
DESCRIPTION:
URL:https://pwgarena.sk/rozpis/ms-volgogradska/
CATEGORIES:KOMERCIA
END:VEVENT
BEGIN:VEVENT
DTSTART;TZID=Europe/Bratislava:20260427T101500
DTEND;TZID=Europe/Bratislava:20260427T111500
DTSTAMP:20260426T010337
CREATED:20260415T172940Z
LAST-MODIFIED:20260416T163402Z
UID:81955-1777284900-1777288500@pwgarena.sk
SUMMARY:ZŠ ŠROBÁROVÁ
DESCRIPTION:
URL:https://pwgarena.sk/rozpis/zs-srobarova-2/
CATEGORIES:VUC
END:VEVENT
END:VCALENDAR