BEGIN:VCALENDAR
VERSION:2.0
PRODID:-//PWG Aréna - ECPv6.15.20//NONSGML v1.0//EN
CALSCALE:GREGORIAN
METHOD:PUBLISH
X-ORIGINAL-URL:https://pwgarena.sk
X-WR-CALDESC:Udalosti pre PWG Aréna
REFRESH-INTERVAL;VALUE=DURATION:PT1H
X-Robots-Tag:noindex
X-PUBLISHED-TTL:PT1H
BEGIN:VTIMEZONE
TZID:Europe/Bratislava
BEGIN:DAYLIGHT
TZOFFSETFROM:+0100
TZOFFSETTO:+0200
TZNAME:CEST
DTSTART:20250330T010000
END:DAYLIGHT
BEGIN:STANDARD
TZOFFSETFROM:+0200
TZOFFSETTO:+0100
TZNAME:CET
DTSTART:20251026T010000
END:STANDARD
BEGIN:DAYLIGHT
TZOFFSETFROM:+0100
TZOFFSETTO:+0200
TZNAME:CEST
DTSTART:20260329T010000
END:DAYLIGHT
BEGIN:STANDARD
TZOFFSETFROM:+0200
TZOFFSETTO:+0100
TZNAME:CET
DTSTART:20261025T010000
END:STANDARD
BEGIN:DAYLIGHT
TZOFFSETFROM:+0100
TZOFFSETTO:+0200
TZNAME:CEST
DTSTART:20270328T010000
END:DAYLIGHT
BEGIN:STANDARD
TZOFFSETFROM:+0200
TZOFFSETTO:+0100
TZNAME:CET
DTSTART:20271031T010000
END:STANDARD
END:VTIMEZONE
BEGIN:VEVENT
DTSTART;TZID=Europe/Bratislava:20260426T154500
DTEND;TZID=Europe/Bratislava:20260426T164500
DTSTAMP:20260426T043610
CREATED:20260414T100009Z
LAST-MODIFIED:20260414T154012Z
UID:81806-1777218300-1777221900@pwgarena.sk
SUMMARY:DEMČÁK
DESCRIPTION:
URL:https://pwgarena.sk/rozpis/demcak/
CATEGORIES:KOMERCIA
END:VEVENT
BEGIN:VEVENT
DTSTART;TZID=Europe/Bratislava:20260426T170000
DTEND;TZID=Europe/Bratislava:20260426T180000
DTSTAMP:20260426T043610
CREATED:20260414T100035Z
LAST-MODIFIED:20260414T154006Z
UID:81808-1777222800-1777226400@pwgarena.sk
SUMMARY:HURKA
DESCRIPTION:
URL:https://pwgarena.sk/rozpis/hurka-2/
CATEGORIES:KOMERCIA
END:VEVENT
BEGIN:VEVENT
DTSTART;TZID=Europe/Bratislava:20260426T182000
DTEND;TZID=Europe/Bratislava:20260426T192000
DTSTAMP:20260426T043610
CREATED:20260414T100102Z
LAST-MODIFIED:20260414T153957Z
UID:81810-1777227600-1777231200@pwgarena.sk
SUMMARY:PATRIK
DESCRIPTION:
URL:https://pwgarena.sk/rozpis/patrik-2/
CATEGORIES:KOMERCIA
END:VEVENT
BEGIN:VEVENT
DTSTART;TZID=Europe/Bratislava:20260426T193500
DTEND;TZID=Europe/Bratislava:20260426T203500
DTSTAMP:20260426T043610
CREATED:20260414T100129Z
LAST-MODIFIED:20260414T153951Z
UID:81812-1777232100-1777235700@pwgarena.sk
SUMMARY:GREGA
DESCRIPTION:
URL:https://pwgarena.sk/rozpis/grega-3/
CATEGORIES:KOMERCIA
END:VEVENT
BEGIN:VEVENT
DTSTART;TZID=Europe/Bratislava:20260426T205000
DTEND;TZID=Europe/Bratislava:20260426T215000
DTSTAMP:20260426T043610
CREATED:20260414T100202Z
LAST-MODIFIED:20260416T145217Z
UID:81814-1777236600-1777240200@pwgarena.sk
SUMMARY:REVIĽÁK
DESCRIPTION:
URL:https://pwgarena.sk/rozpis/volny-lad-6/
CATEGORIES:KOMERCIA
END:VEVENT
BEGIN:VEVENT
DTSTART;TZID=Europe/Bratislava:20260427T060000
DTEND;TZID=Europe/Bratislava:20260427T070000
DTSTAMP:20260426T043610
CREATED:20260415T165644Z
LAST-MODIFIED:20260423T081141Z
UID:81858-1777269600-1777273200@pwgarena.sk
SUMMARY:VOĽNÝ ĽAD
DESCRIPTION:
URL:https://pwgarena.sk/rozpis/8-9-6/
CATEGORIES:Voľná hodina
END:VEVENT
BEGIN:VEVENT
DTSTART;TZID=Europe/Bratislava:20260427T071000
DTEND;TZID=Europe/Bratislava:20260427T081000
DTSTAMP:20260426T043610
CREATED:20260414T080333Z
LAST-MODIFIED:20260414T153938Z
UID:81673-1777273800-1777277400@pwgarena.sk
SUMMARY:ELBA
DESCRIPTION:
URL:https://pwgarena.sk/rozpis/elba-14/
CATEGORIES:VUC
END:VEVENT
BEGIN:VEVENT
DTSTART;TZID=Europe/Bratislava:20260427T082000
DTEND;TZID=Europe/Bratislava:20260427T092000
DTSTAMP:20260426T043610
CREATED:20260414T080354Z
LAST-MODIFIED:20260414T153933Z
UID:81675-1777278000-1777281600@pwgarena.sk
SUMMARY:ELBA
DESCRIPTION:
URL:https://pwgarena.sk/rozpis/elba-15/
CATEGORIES:VUC
END:VEVENT
BEGIN:VEVENT
DTSTART;TZID=Europe/Bratislava:20260427T092000
DTEND;TZID=Europe/Bratislava:20260427T100500
DTSTAMP:20260426T043610
CREATED:20260415T172743Z
LAST-MODIFIED:20260416T163408Z
UID:81947-1777281600-1777284300@pwgarena.sk
SUMMARY:MŠ VOLGOGRADSKÁ
DESCRIPTION:
URL:https://pwgarena.sk/rozpis/ms-volgogradska/
CATEGORIES:KOMERCIA
END:VEVENT
BEGIN:VEVENT
DTSTART;TZID=Europe/Bratislava:20260427T101500
DTEND;TZID=Europe/Bratislava:20260427T111500
DTSTAMP:20260426T043610
CREATED:20260415T172940Z
LAST-MODIFIED:20260416T163402Z
UID:81955-1777284900-1777288500@pwgarena.sk
SUMMARY:ZŠ ŠROBÁROVÁ
DESCRIPTION:
URL:https://pwgarena.sk/rozpis/zs-srobarova-2/
CATEGORIES:VUC
END:VEVENT
BEGIN:VEVENT
DTSTART;TZID=Europe/Bratislava:20260427T112500
DTEND;TZID=Europe/Bratislava:20260427T122500
DTSTAMP:20260426T043610
CREATED:20260415T173004Z
LAST-MODIFIED:20260416T163317Z
UID:81957-1777289100-1777292700@pwgarena.sk
SUMMARY:ZŠ ŠROBÁROVÁ
DESCRIPTION:
URL:https://pwgarena.sk/rozpis/zs-srobarova-3/
CATEGORIES:VUC
END:VEVENT
BEGIN:VEVENT
DTSTART;TZID=Europe/Bratislava:20260427T123500
DTEND;TZID=Europe/Bratislava:20260427T133500
DTSTAMP:20260426T043610
CREATED:20260415T170636Z
LAST-MODIFIED:20260425T095658Z
UID:81891-1777293300-1777296900@pwgarena.sk
SUMMARY:VUC
DESCRIPTION:
URL:https://pwgarena.sk/rozpis/1-6/
END:VEVENT
BEGIN:VEVENT
DTSTART;TZID=Europe/Bratislava:20260427T134500
DTEND;TZID=Europe/Bratislava:20260427T144500
DTSTAMP:20260426T043610
CREATED:20260421T102549Z
LAST-MODIFIED:20260421T104035Z
UID:82089-1777297500-1777301100@pwgarena.sk
SUMMARY:SKS
DESCRIPTION:
URL:https://pwgarena.sk/rozpis/sks-3/
CATEGORIES:SKS
END:VEVENT
BEGIN:VEVENT
DTSTART;TZID=Europe/Bratislava:20260427T145500
DTEND;TZID=Europe/Bratislava:20260427T155500
DTSTAMP:20260426T043610
CREATED:20260421T102620Z
LAST-MODIFIED:20260421T104042Z
UID:82091-1777301700-1777305300@pwgarena.sk
SUMMARY:SKS
DESCRIPTION:
URL:https://pwgarena.sk/rozpis/sks-4/
CATEGORIES:SKS
END:VEVENT
BEGIN:VEVENT
DTSTART;TZID=Europe/Bratislava:20260427T160500
DTEND;TZID=Europe/Bratislava:20260427T170500
DTSTAMP:20260426T043610
CREATED:20260415T165934Z
LAST-MODIFIED:20260423T091336Z
UID:81866-1777305900-1777309500@pwgarena.sk
SUMMARY:VOĽNÝ ĽAD
DESCRIPTION:
URL:https://pwgarena.sk/rozpis/6-7-7/
CATEGORIES:Voľná hodina
END:VEVENT
BEGIN:VEVENT
DTSTART;TZID=Europe/Bratislava:20260427T171500
DTEND;TZID=Europe/Bratislava:20260427T181500
DTSTAMP:20260426T043610
CREATED:20260415T170140Z
LAST-MODIFIED:20260416T163342Z
UID:81873-1777310100-1777313700@pwgarena.sk
SUMMARY:3/4  / BRANKÁRI 1-5
DESCRIPTION:
URL:https://pwgarena.sk/rozpis/3-4-brankari-1-5-2/
CATEGORIES:SLÁVIA
END:VEVENT
BEGIN:VEVENT
DTSTART;TZID=Europe/Bratislava:20260427T183000
DTEND;TZID=Europe/Bratislava:20260427T193000
DTSTAMP:20260426T043610
CREATED:20260415T170910Z
LAST-MODIFIED:20260416T163349Z
UID:81901-1777314600-1777318200@pwgarena.sk
SUMMARY:URO
DESCRIPTION:
URL:https://pwgarena.sk/rozpis/uro-2/
CATEGORIES:KOMERCIA
END:VEVENT
BEGIN:VEVENT
DTSTART;TZID=Europe/Bratislava:20260427T194500
DTEND;TZID=Europe/Bratislava:20260427T204500
DTSTAMP:20260426T043610
CREATED:20260415T170937Z
LAST-MODIFIED:20260416T163354Z
UID:81903-1777319100-1777322700@pwgarena.sk
SUMMARY:DUKLA
DESCRIPTION:
URL:https://pwgarena.sk/rozpis/dukla-2/
CATEGORIES:KOMERCIA
END:VEVENT
BEGIN:VEVENT
DTSTART;TZID=Europe/Bratislava:20260427T210000
DTEND;TZID=Europe/Bratislava:20260427T220000
DTSTAMP:20260426T043610
CREATED:20260415T171002Z
LAST-MODIFIED:20260416T163054Z
UID:81905-1777323600-1777327200@pwgarena.sk
SUMMARY:DUVA
DESCRIPTION:
URL:https://pwgarena.sk/rozpis/duva-2/
CATEGORIES:KOMERCIA
END:VEVENT
BEGIN:VEVENT
DTSTART;TZID=Europe/Bratislava:20260428T071000
DTEND;TZID=Europe/Bratislava:20260428T081000
DTSTAMP:20260426T043610
CREATED:20260415T170013Z
LAST-MODIFIED:20260423T091541Z
UID:81868-1777360200-1777363800@pwgarena.sk
SUMMARY:VUC
DESCRIPTION:
URL:https://pwgarena.sk/rozpis/6-7-8/
END:VEVENT
BEGIN:VEVENT
DTSTART;TZID=Europe/Bratislava:20260428T082000
DTEND;TZID=Europe/Bratislava:20260428T092000
DTSTAMP:20260426T043610
CREATED:20260414T080420Z
LAST-MODIFIED:20260414T153925Z
UID:81677-1777364400-1777368000@pwgarena.sk
SUMMARY:ELBA
DESCRIPTION:
URL:https://pwgarena.sk/rozpis/elba-16/
CATEGORIES:VUC
END:VEVENT
BEGIN:VEVENT
DTSTART;TZID=Europe/Bratislava:20260428T092000
DTEND;TZID=Europe/Bratislava:20260428T100500
DTSTAMP:20260426T043610
CREATED:20260415T172809Z
LAST-MODIFIED:20260416T163105Z
UID:81949-1777368000-1777370700@pwgarena.sk
SUMMARY:MŠ VOLGOGRADSKÁ
DESCRIPTION:
URL:https://pwgarena.sk/rozpis/ms-volgogradska-2/
CATEGORIES:KOMERCIA
END:VEVENT
BEGIN:VEVENT
DTSTART;TZID=Europe/Bratislava:20260428T101500
DTEND;TZID=Europe/Bratislava:20260428T111500
DTSTAMP:20260426T043610
CREATED:20260414T080512Z
LAST-MODIFIED:20260414T153918Z
UID:81679-1777371300-1777374900@pwgarena.sk
SUMMARY:ELBA
DESCRIPTION:
URL:https://pwgarena.sk/rozpis/elba-17/
CATEGORIES:VUC
END:VEVENT
BEGIN:VEVENT
DTSTART;TZID=Europe/Bratislava:20260428T112500
DTEND;TZID=Europe/Bratislava:20260428T122500
DTSTAMP:20260426T043610
CREATED:20260415T170520Z
LAST-MODIFIED:20260423T091611Z
UID:81885-1777375500-1777379100@pwgarena.sk
SUMMARY:VUC
DESCRIPTION:
URL:https://pwgarena.sk/rozpis/4-5/
END:VEVENT
BEGIN:VEVENT
DTSTART;TZID=Europe/Bratislava:20260428T123500
DTEND;TZID=Europe/Bratislava:20260428T133500
DTSTAMP:20260426T043610
CREATED:20260415T170808Z
LAST-MODIFIED:20260416T163127Z
UID:81897-1777379700-1777383300@pwgarena.sk
SUMMARY:2/3
DESCRIPTION:
URL:https://pwgarena.sk/rozpis/2-3-4/
CATEGORIES:VUC
END:VEVENT
BEGIN:VEVENT
DTSTART;TZID=Europe/Bratislava:20260428T134500
DTEND;TZID=Europe/Bratislava:20260428T144500
DTSTAMP:20260426T043610
CREATED:20260421T102644Z
LAST-MODIFIED:20260421T104055Z
UID:82093-1777383900-1777387500@pwgarena.sk
SUMMARY:SKS
DESCRIPTION:
URL:https://pwgarena.sk/rozpis/sks-5/
CATEGORIES:SKS
END:VEVENT
BEGIN:VEVENT
DTSTART;TZID=Europe/Bratislava:20260428T145500
DTEND;TZID=Europe/Bratislava:20260428T155500
DTSTAMP:20260426T043610
CREATED:20260421T102712Z
LAST-MODIFIED:20260421T103913Z
UID:82095-1777388100-1777391700@pwgarena.sk
SUMMARY:SKS
DESCRIPTION:
URL:https://pwgarena.sk/rozpis/sks-6/
CATEGORIES:SKS
END:VEVENT
BEGIN:VEVENT
DTSTART;TZID=Europe/Bratislava:20260428T160500
DTEND;TZID=Europe/Bratislava:20260428T165500
DTSTAMP:20260426T043610
CREATED:20260415T165727Z
LAST-MODIFIED:20260423T161937Z
UID:81860-1777392300-1777395300@pwgarena.sk
SUMMARY:PARTIČKA (50min)
DESCRIPTION:
URL:https://pwgarena.sk/rozpis/8-9-10/
CATEGORIES:KOMERCIA
END:VEVENT
BEGIN:VEVENT
DTSTART;TZID=Europe/Bratislava:20260428T170500
DTEND;TZID=Europe/Bratislava:20260428T180500
DTSTAMP:20260426T043610
CREATED:20260415T170335Z
LAST-MODIFIED:20260416T163148Z
UID:81878-1777395900-1777399500@pwgarena.sk
SUMMARY:DORAST
DESCRIPTION:
URL:https://pwgarena.sk/rozpis/dorast/
CATEGORIES:SLÁVIA
END:VEVENT
BEGIN:VEVENT
DTSTART;TZID=Europe/Bratislava:20260428T182000
DTEND;TZID=Europe/Bratislava:20260428T192000
DTSTAMP:20260426T043610
CREATED:20260415T171042Z
LAST-MODIFIED:20260416T163154Z
UID:81908-1777400400-1777404000@pwgarena.sk
SUMMARY:TURBOSLIMÁCI
DESCRIPTION:
URL:https://pwgarena.sk/rozpis/turboslimaci-2/
CATEGORIES:KOMERCIA
END:VEVENT
END:VCALENDAR